BEGIN:VCALENDAR
VERSION:2.0
PRODID:-//Wiseman Park Wollongong City Bowling Club - ECPv6.15.16.1//NONSGML v1.0//EN
CALSCALE:GREGORIAN
METHOD:PUBLISH
X-ORIGINAL-URL:https://wisos.com.au
X-WR-CALDESC:Events for Wiseman Park Wollongong City Bowling Club
REFRESH-INTERVAL;VALUE=DURATION:PT1H
X-Robots-Tag:noindex
X-PUBLISHED-TTL:PT1H
BEGIN:VTIMEZONE
TZID:UTC
BEGIN:STANDARD
TZOFFSETFROM:+0000
TZOFFSETTO:+0000
TZNAME:UTC
DTSTART:20250101T000000
END:STANDARD
END:VTIMEZONE
BEGIN:VEVENT
DTSTART;TZID=UTC:20260428T190000
DTEND;TZID=UTC:20260428T190000
DTSTAMP:20260424T112218
CREATED:20211124T002747Z
LAST-MODIFIED:20211124T002747Z
UID:4995-1777402800-1777402800@wisos.com.au
SUMMARY:Tuesday Trivia
DESCRIPTION:
URL:https://wisos.com.au/event/tuesday-trivia/2026-04-28/
CATEGORIES:Upcoming Events
ATTACH;FMTTYPE=image/jpeg:https://wisos.com.au/wp-content/uploads/2022/05/Tuesday-Trivia-TV-Wiseman-Park-Bowling-Club-2.jpg
END:VEVENT
BEGIN:VEVENT
DTSTART;TZID=UTC:20260505T190000
DTEND;TZID=UTC:20260505T190000
DTSTAMP:20260424T112218
CREATED:20211124T002747Z
LAST-MODIFIED:20211124T002747Z
UID:5012-1778007600-1778007600@wisos.com.au
SUMMARY:Tuesday Trivia
DESCRIPTION:
URL:https://wisos.com.au/event/tuesday-trivia/2026-05-05/
CATEGORIES:Upcoming Events
ATTACH;FMTTYPE=image/jpeg:https://wisos.com.au/wp-content/uploads/2022/05/Tuesday-Trivia-TV-Wiseman-Park-Bowling-Club-2.jpg
END:VEVENT
BEGIN:VEVENT
DTSTART;TZID=UTC:20260512T190000
DTEND;TZID=UTC:20260512T190000
DTSTAMP:20260424T112218
CREATED:20211124T002747Z
LAST-MODIFIED:20211124T002747Z
UID:5032-1778612400-1778612400@wisos.com.au
SUMMARY:Tuesday Trivia
DESCRIPTION:
URL:https://wisos.com.au/event/tuesday-trivia/2026-05-12/
CATEGORIES:Upcoming Events
ATTACH;FMTTYPE=image/jpeg:https://wisos.com.au/wp-content/uploads/2022/05/Tuesday-Trivia-TV-Wiseman-Park-Bowling-Club-2.jpg
END:VEVENT
BEGIN:VEVENT
DTSTART;TZID=UTC:20260519T190000
DTEND;TZID=UTC:20260519T190000
DTSTAMP:20260424T112218
CREATED:20211124T002747Z
LAST-MODIFIED:20211124T002747Z
UID:5050-1779217200-1779217200@wisos.com.au
SUMMARY:Tuesday Trivia
DESCRIPTION:
URL:https://wisos.com.au/event/tuesday-trivia/2026-05-19/
CATEGORIES:Upcoming Events
ATTACH;FMTTYPE=image/jpeg:https://wisos.com.au/wp-content/uploads/2022/05/Tuesday-Trivia-TV-Wiseman-Park-Bowling-Club-2.jpg
END:VEVENT
BEGIN:VEVENT
DTSTART;TZID=UTC:20260526T190000
DTEND;TZID=UTC:20260526T190000
DTSTAMP:20260424T112218
CREATED:20211124T002747Z
LAST-MODIFIED:20211124T002747Z
UID:5071-1779822000-1779822000@wisos.com.au
SUMMARY:Tuesday Trivia
DESCRIPTION:
URL:https://wisos.com.au/event/tuesday-trivia/2026-05-26/
CATEGORIES:Upcoming Events
ATTACH;FMTTYPE=image/jpeg:https://wisos.com.au/wp-content/uploads/2022/05/Tuesday-Trivia-TV-Wiseman-Park-Bowling-Club-2.jpg
END:VEVENT
BEGIN:VEVENT
DTSTART;TZID=UTC:20260602T190000
DTEND;TZID=UTC:20260602T190000
DTSTAMP:20260424T112218
CREATED:20211124T002747Z
LAST-MODIFIED:20211124T002747Z
UID:5090-1780426800-1780426800@wisos.com.au
SUMMARY:Tuesday Trivia
DESCRIPTION:
URL:https://wisos.com.au/event/tuesday-trivia/2026-06-02/
CATEGORIES:Upcoming Events
ATTACH;FMTTYPE=image/jpeg:https://wisos.com.au/wp-content/uploads/2022/05/Tuesday-Trivia-TV-Wiseman-Park-Bowling-Club-2.jpg
END:VEVENT
BEGIN:VEVENT
DTSTART;TZID=UTC:20260609T190000
DTEND;TZID=UTC:20260609T190000
DTSTAMP:20260424T112218
CREATED:20211124T002747Z
LAST-MODIFIED:20211124T002747Z
UID:5107-1781031600-1781031600@wisos.com.au
SUMMARY:Tuesday Trivia
DESCRIPTION:
URL:https://wisos.com.au/event/tuesday-trivia/2026-06-09/
CATEGORIES:Upcoming Events
ATTACH;FMTTYPE=image/jpeg:https://wisos.com.au/wp-content/uploads/2022/05/Tuesday-Trivia-TV-Wiseman-Park-Bowling-Club-2.jpg
END:VEVENT
BEGIN:VEVENT
DTSTART;TZID=UTC:20260616T190000
DTEND;TZID=UTC:20260616T190000
DTSTAMP:20260424T112218
CREATED:20211124T002747Z
LAST-MODIFIED:20211124T002747Z
UID:5124-1781636400-1781636400@wisos.com.au
SUMMARY:Tuesday Trivia
DESCRIPTION:
URL:https://wisos.com.au/event/tuesday-trivia/2026-06-16/
CATEGORIES:Upcoming Events
ATTACH;FMTTYPE=image/jpeg:https://wisos.com.au/wp-content/uploads/2022/05/Tuesday-Trivia-TV-Wiseman-Park-Bowling-Club-2.jpg
END:VEVENT
BEGIN:VEVENT
DTSTART;TZID=UTC:20260623T190000
DTEND;TZID=UTC:20260623T190000
DTSTAMP:20260424T112218
CREATED:20211124T002747Z
LAST-MODIFIED:20211124T002747Z
UID:5151-1782241200-1782241200@wisos.com.au
SUMMARY:Tuesday Trivia
DESCRIPTION:
URL:https://wisos.com.au/event/tuesday-trivia/2026-06-23/
CATEGORIES:Upcoming Events
ATTACH;FMTTYPE=image/jpeg:https://wisos.com.au/wp-content/uploads/2022/05/Tuesday-Trivia-TV-Wiseman-Park-Bowling-Club-2.jpg
END:VEVENT
BEGIN:VEVENT
DTSTART;TZID=UTC:20260630T190000
DTEND;TZID=UTC:20260630T190000
DTSTAMP:20260424T112218
CREATED:20211124T002747Z
LAST-MODIFIED:20211124T002747Z
UID:5168-1782846000-1782846000@wisos.com.au
SUMMARY:Tuesday Trivia
DESCRIPTION:
URL:https://wisos.com.au/event/tuesday-trivia/2026-06-30/
CATEGORIES:Upcoming Events
ATTACH;FMTTYPE=image/jpeg:https://wisos.com.au/wp-content/uploads/2022/05/Tuesday-Trivia-TV-Wiseman-Park-Bowling-Club-2.jpg
END:VEVENT
BEGIN:VEVENT
DTSTART;TZID=UTC:20260707T190000
DTEND;TZID=UTC:20260707T190000
DTSTAMP:20260424T112218
CREATED:20211124T002747Z
LAST-MODIFIED:20211124T002747Z
UID:5185-1783450800-1783450800@wisos.com.au
SUMMARY:Tuesday Trivia
DESCRIPTION:
URL:https://wisos.com.au/event/tuesday-trivia/2026-07-07/
CATEGORIES:Upcoming Events
ATTACH;FMTTYPE=image/jpeg:https://wisos.com.au/wp-content/uploads/2022/05/Tuesday-Trivia-TV-Wiseman-Park-Bowling-Club-2.jpg
END:VEVENT
BEGIN:VEVENT
DTSTART;TZID=UTC:20260714T190000
DTEND;TZID=UTC:20260714T190000
DTSTAMP:20260424T112218
CREATED:20211124T002747Z
LAST-MODIFIED:20211124T002747Z
UID:5202-1784055600-1784055600@wisos.com.au
SUMMARY:Tuesday Trivia
DESCRIPTION:
URL:https://wisos.com.au/event/tuesday-trivia/2026-07-14/
CATEGORIES:Upcoming Events
ATTACH;FMTTYPE=image/jpeg:https://wisos.com.au/wp-content/uploads/2022/05/Tuesday-Trivia-TV-Wiseman-Park-Bowling-Club-2.jpg
END:VEVENT
BEGIN:VEVENT
DTSTART;TZID=UTC:20260721T190000
DTEND;TZID=UTC:20260721T190000
DTSTAMP:20260424T112218
CREATED:20211124T002747Z
LAST-MODIFIED:20211124T002747Z
UID:5219-1784660400-1784660400@wisos.com.au
SUMMARY:Tuesday Trivia
DESCRIPTION:
URL:https://wisos.com.au/event/tuesday-trivia/2026-07-21/
CATEGORIES:Upcoming Events
ATTACH;FMTTYPE=image/jpeg:https://wisos.com.au/wp-content/uploads/2022/05/Tuesday-Trivia-TV-Wiseman-Park-Bowling-Club-2.jpg
END:VEVENT
END:VCALENDAR